BEGIN:VCALENDAR
VERSION:2.0
METHOD:PUBLISH
BEGIN:VEVENT
DTSTAMP:20260423T145841Z
DTSTART:20260505T213000Z
DTEND:20260505T230000Z
SUMMARY:Council in Committee Meeting CANCELED
LOCATION:460 Witt Road Pembroke, O
END:VEVENT
END:VCALENDAR
