BEGIN:VCALENDAR
VERSION:2.0
METHOD:PUBLISH
BEGIN:VEVENT
DTSTAMP:20260421T093945Z
DTSTART:20241024T113000Z
DTEND:20241024T210000Z
SUMMARY:Fall Business and Leadership Conference
LOCATION:1 Frank Nighbor St, Pembroke ON 
END:VEVENT
END:VCALENDAR
