BEGIN:VCALENDAR
VERSION:2.0
METHOD:PUBLISH
BEGIN:VEVENT
DTSTAMP:20260421T030122Z
DTSTART:20231102T143000Z
DTEND:20231102T160000Z
SUMMARY:The 4P's of Marketing
LOCATION:County of Renfrew
END:VEVENT
END:VCALENDAR
