BEGIN:VCALENDAR
VERSION:2.0
METHOD:PUBLISH
BEGIN:VEVENT
DTSTAMP:20260425T034752Z
DTSTART:20230807T123000Z
DTEND:20230807T200000Z
SUMMARY:Office Closed - Civic Holiday
LOCATION:460 Witt Road
END:VEVENT
END:VCALENDAR
