BEGIN:VCALENDAR
VERSION:2.0
METHOD:PUBLISH
BEGIN:VEVENT
DTSTAMP:20260424T023143Z
DTSTART:20230301T170000Z
DTEND:20230301T183000Z
SUMMARY:Service Concierge - Brand Identity
LOCATION:Virtual
END:VEVENT
END:VCALENDAR
